BEGIN:VCALENDAR
VERSION:2.0
PRODID:-//SVP Adliswil //NONSGML Events //EN
CALSCALE:GREGORIAN
X-WR-CALNAME:SVP Adliswil
BEGIN:VEVENT
CREATED:20250317T072250Z
UID:3754
DTEND:20250705T120000
DTSTART:20250705T090000
DTSTAMP:20260421T085645Z
LOCATION:
DESCRIPTION:Marktplatz, Zürich-Oerlikon.
SUMMARY:Stadt Zürich / Kreis 11: Standaktion
ORGANIZER:
URL;VALUE=URI:https://www.svp-adliswil.ch/termine/stadt-zuerich-kreis-11-standaktion-78/
TRANSP:OPAQUE
END:VEVENT
END:VCALENDAR
